BEGIN:VCALENDAR
VERSION:2.0
PRODID:-//Braintree Baptist Church - ECPv6.15.17.1//NONSGML v1.0//EN
CALSCALE:GREGORIAN
METHOD:PUBLISH
X-WR-CALNAME:Braintree Baptist Church
X-ORIGINAL-URL:https://braintreebaptistchurch.com
X-WR-CALDESC:Events for Braintree Baptist Church
REFRESH-INTERVAL;VALUE=DURATION:PT1H
X-Robots-Tag:noindex
X-PUBLISHED-TTL:PT1H
BEGIN:VTIMEZONE
TZID:Europe/Paris
BEGIN:DAYLIGHT
TZOFFSETFROM:+0100
TZOFFSETTO:+0200
TZNAME:CEST
DTSTART:20230326T010000
END:DAYLIGHT
BEGIN:STANDARD
TZOFFSETFROM:+0200
TZOFFSETTO:+0100
TZNAME:CET
DTSTART:20231029T010000
END:STANDARD
BEGIN:DAYLIGHT
TZOFFSETFROM:+0100
TZOFFSETTO:+0200
TZNAME:CEST
DTSTART:20240331T010000
END:DAYLIGHT
BEGIN:STANDARD
TZOFFSETFROM:+0200
TZOFFSETTO:+0100
TZNAME:CET
DTSTART:20241027T010000
END:STANDARD
BEGIN:DAYLIGHT
TZOFFSETFROM:+0100
TZOFFSETTO:+0200
TZNAME:CEST
DTSTART:20250330T010000
END:DAYLIGHT
BEGIN:STANDARD
TZOFFSETFROM:+0200
TZOFFSETTO:+0100
TZNAME:CET
DTSTART:20251026T010000
END:STANDARD
END:VTIMEZONE
BEGIN:VEVENT
DTSTART;TZID=Europe/Paris:20240504T100000
DTEND;TZID=Europe/Paris:20240504T120000
DTSTAMP:20260424T000302
CREATED:20240410T111957Z
LAST-MODIFIED:20240410T120559Z
UID:4003-1714816800-1714824000@braintreebaptistchurch.com
SUMMARY:Bounce Cafe
DESCRIPTION:Enjoy scrumptious\, affordable hot food & drinks\, and kids can bounce for free!
URL:https://braintreebaptistchurch.com/event/bounce-cafe/
LOCATION:Braintree Baptist Church\, Braintree Baptist Church\, Blyth’s Meadow\, Coggeshall Road\, CM7 3DA\, Braintree\, Essex\, CM7 3DA\, United Kingdom
CATEGORIES:Cafe
ATTACH;FMTTYPE=image/png:https://braintreebaptistchurch.com/wp-content/uploads/2024/04/BC-Poster-General.png
END:VEVENT
END:VCALENDAR